BEGIN:VCALENDAR
VERSION:2.0
PRODID:-//Roseau County Historical Society and Museum - ECPv6.15.20//NONSGML v1.0//EN
CALSCALE:GREGORIAN
METHOD:PUBLISH
X-WR-CALNAME:Roseau County Historical Society and Museum
X-ORIGINAL-URL:https://roseaucohistoricalsociety.org
X-WR-CALDESC:Events for Roseau County Historical Society and Museum
REFRESH-INTERVAL;VALUE=DURATION:PT1H
X-Robots-Tag:noindex
X-PUBLISHED-TTL:PT1H
BEGIN:VTIMEZONE
TZID:America/Chicago
BEGIN:DAYLIGHT
TZOFFSETFROM:-0600
TZOFFSETTO:-0500
TZNAME:CDT
DTSTART:20240310T080000
END:DAYLIGHT
BEGIN:STANDARD
TZOFFSETFROM:-0500
TZOFFSETTO:-0600
TZNAME:CST
DTSTART:20241103T070000
END:STANDARD
BEGIN:DAYLIGHT
TZOFFSETFROM:-0600
TZOFFSETTO:-0500
TZNAME:CDT
DTSTART:20250309T080000
END:DAYLIGHT
BEGIN:STANDARD
TZOFFSETFROM:-0500
TZOFFSETTO:-0600
TZNAME:CST
DTSTART:20251102T070000
END:STANDARD
BEGIN:DAYLIGHT
TZOFFSETFROM:-0600
TZOFFSETTO:-0500
TZNAME:CDT
DTSTART:20260308T080000
END:DAYLIGHT
BEGIN:STANDARD
TZOFFSETFROM:-0500
TZOFFSETTO:-0600
TZNAME:CST
DTSTART:20261101T070000
END:STANDARD
END:VTIMEZONE
BEGIN:VEVENT
DTSTART;TZID=America/Chicago:20250222T100000
DTEND;TZID=America/Chicago:20250222T140000
DTSTAMP:20260425T051912
CREATED:20250115T013721Z
LAST-MODIFIED:20250115T013722Z
UID:5769-1740218400-1740232800@roseaucohistoricalsociety.org
SUMMARY:Frosty Flannel Scavenger Hunt
DESCRIPTION:A scavenger hunt in the museum for all ages (0-99+). Search the museum to try and find flannel scarves cleverly hidden throughout the exhibits. This is a free event with a prize for all that participate. \n 
URL:https://roseaucohistoricalsociety.org/event/frosty-flannel-scavenger-hunt/
LOCATION:Roseau County Museum\, 121 Center St. E. #101\, Roseau\, MN\, 56751\, United States
CATEGORIES:Programming
ATTACH;FMTTYPE=image/png:https://roseaucohistoricalsociety.org/wp-content/uploads/2025/01/Frostys-Flannel-Facebook-Cover.png
END:VEVENT
BEGIN:VEVENT
DTSTART;TZID=America/Chicago:20250222T100000
DTEND;TZID=America/Chicago:20250222T170000
DTSTAMP:20260425T051912
CREATED:20250115T025748Z
LAST-MODIFIED:20250127T180936Z
UID:5778-1740218400-1740243600@roseaucohistoricalsociety.org
SUMMARY:Rostegning Art Show and Demonstration Classes
DESCRIPTION:Learn the process of Ros tegning with Hardanger fiddler and artist Bud Larsen. Folks are most familiar with Rosmaling (painted designs) but Ros tening is drawing similar rosing designs. This is how the Hardanger fiddles are decorated. Participants will be practicing on wooden plates or lefsa sticks with an ink design. \nHeld at the Roseau County Museum \nFebruary 22\, 2025 \nWooden Plate Class at 10 AM:  $20 per person\, limit of 15 people \n\nBuy now\n\n  \n  \nLefsa Stick at 1 PM: $20 per person\, limit of 15 people \n\nBuy now\n\n  \n  \nBelow is an example of Ros tegning on a Hardanger fiddle \n \n  \n“This activity is made possible by the voters of Minnesota through a grant from the Northwest Minnesota Arts Council\, thanks to a legislative appropriation from the arts and cultural heritage fund.”
URL:https://roseaucohistoricalsociety.org/event/rostegning-art-show-and-demonstration-classes/
LOCATION:Roseau County Museum\, 121 Center St. E. #101\, Roseau\, MN\, 56751\, United States
CATEGORIES:Programming
ATTACH;FMTTYPE=image/jpeg:https://roseaucohistoricalsociety.org/wp-content/uploads/2025/01/hardanger-design.jpg
ORGANIZER;CN="Roseau County Museum":MAILTO:rchsroseau@mncable.net
END:VEVENT
BEGIN:VEVENT
DTSTART;TZID=America/Chicago:20250222T170000
DTEND;TZID=America/Chicago:20250222T200000
DTSTAMP:20260425T051912
CREATED:20250115T020923Z
LAST-MODIFIED:20250127T180717Z
UID:5771-1740243600-1740254400@roseaucohistoricalsociety.org
SUMMARY:A Nordic Winter Evening
DESCRIPTION: A Nordic Winter Evening \nJoin us for an evening celebrating Scandinavian heritage\, delicious food\, and the enchanting sounds of the Hardanger fiddle!\nFebruary 22\, 2025 | Roseau City Center\nEvent Details Scandinavian Meatball Supper | Time: 5–6 PMCost: $20 per plate | $10 for children 12 and underMenu: Swedish meatballs\, mashed potatoes with gravy\, green beans\, homemade dinner roll\, assorted Scandinavian desserts\, and refreshments. Served by Cow Creek Bakery \n Advanced tickets are required and can be purchased at the museum or through the online link. Ticket sales end on February 17\, 2025.\n Hardanger Fiddle Music & Storytelling | Time: 6–7 PMCost: Free and open to the publicEnjoy a traditional Hardanger fiddle performance by Robert “Bud” Larsen while we explore its history and hear captivating Scandinavian stories. \nBring your family and friends for a heartwarming evening of food\, culture\, and music.\nCelebrate the art and traditions of Nordic heritage\n\n“This activity is made possible by the voters of Minnesota through a grant from the Northwest Minnesota Arts Council\, thanks to a legislative appropriation from the arts and cultural heritage fund.”\n\n\n\n\n\n\n\nAdult Meal Ticket: $20/person   Click here for adult tickets\n\n\n\nChild under 12 Meal Ticket: $10/person  Click here for children 12 and under
URL:https://roseaucohistoricalsociety.org/event/a-nordic-winter-evening/
LOCATION:Roseau City Center
CATEGORIES:Programming
ATTACH;FMTTYPE=image/png:https://roseaucohistoricalsociety.org/wp-content/uploads/2025/01/Fiddler-Bud-Larsen-and-a-Meatball-Supper.png
END:VEVENT
END:VCALENDAR