BEGIN:VCALENDAR
VERSION:2.0
PRODID:-//Roseau County Historical Society and Museum - ECPv6.15.17.1//NONSGML v1.0//EN
CALSCALE:GREGORIAN
METHOD:PUBLISH
X-ORIGINAL-URL:https://roseaucohistoricalsociety.org
X-WR-CALDESC:Events for Roseau County Historical Society and Museum
REFRESH-INTERVAL;VALUE=DURATION:PT1H
X-Robots-Tag:noindex
X-PUBLISHED-TTL:PT1H
BEGIN:VTIMEZONE
TZID:America/Chicago
BEGIN:DAYLIGHT
TZOFFSETFROM:-0600
TZOFFSETTO:-0500
TZNAME:CDT
DTSTART:20250309T080000
END:DAYLIGHT
BEGIN:STANDARD
TZOFFSETFROM:-0500
TZOFFSETTO:-0600
TZNAME:CST
DTSTART:20251102T070000
END:STANDARD
BEGIN:DAYLIGHT
TZOFFSETFROM:-0600
TZOFFSETTO:-0500
TZNAME:CDT
DTSTART:20260308T080000
END:DAYLIGHT
BEGIN:STANDARD
TZOFFSETFROM:-0500
TZOFFSETTO:-0600
TZNAME:CST
DTSTART:20261101T070000
END:STANDARD
BEGIN:DAYLIGHT
TZOFFSETFROM:-0600
TZOFFSETTO:-0500
TZNAME:CDT
DTSTART:20270314T080000
END:DAYLIGHT
BEGIN:STANDARD
TZOFFSETFROM:-0500
TZOFFSETTO:-0600
TZNAME:CST
DTSTART:20271107T070000
END:STANDARD
END:VTIMEZONE
BEGIN:VEVENT
DTSTART;TZID=America/Chicago:20260512T183000
DTEND;TZID=America/Chicago:20260512T193000
DTSTAMP:20260422T070732
CREATED:20260416T215729Z
LAST-MODIFIED:20260416T215729Z
UID:6151-1778610600-1778614200@roseaucohistoricalsociety.org
SUMMARY:Kristian Bugge & WB Reid in Concert
DESCRIPTION:Live Music Coming to Greenbush\nJoin us for an evening of lively folk music with Kristian Bugge & WB Reid\, a transatlantic duo bringing together Danish fiddle traditions and American roots guitar.\nTuesday\, May 12\, 2026Greenbush Community Center244 Main St N\, Greenbush\, MN Time: 6:30pm \nFree Event \nEnjoy an engaging performance filled with polkas\, jigs\, waltzes\, and reels\, along with stories from years of touring across Europe and North America. This is a relaxed\, high-quality concert that blends tradition\, humor\, and musicianship. \nKristian Bugge is an award-winning Danish fiddler and nationally recognized folk artist. WB Reid is a seasoned musician from Seattle\, known for his work across traditional American music and festivals nationwide. \nCome out for a great night of music close to home. \nREAD MORE HERE \nThis activity is made possible by the voters of Minnesota through a grant from the Northwest Minnesota Arts Council\, thanks to a legislative appropriation from the Arts and Cultural Heritage Fund.
URL:https://roseaucohistoricalsociety.org/event/kristian-bugge-wb-reid-in-concert/
LOCATION:Greenbush Community Center\, 244 Main St\, Greenbush\, MN\, 56726\, United States
CATEGORIES:Programming
ATTACH;FMTTYPE=image/jpeg:https://roseaucohistoricalsociety.org/wp-content/uploads/2026/04/Bugge-and-Reid.jpg
ORGANIZER;CN="Roseau County Museum":MAILTO:rchsroseau@mncable.net
END:VEVENT
BEGIN:VEVENT
DTSTART;TZID=America/Chicago:20260606T090000
DTEND;TZID=America/Chicago:20260606T170000
DTSTAMP:20260422T070732
CREATED:20260418T202255Z
LAST-MODIFIED:20260418T203859Z
UID:6155-1780736400-1780765200@roseaucohistoricalsociety.org
SUMMARY:End Table Workshop
DESCRIPTION:Northwoods End Table Workshop\nJune 6\, 9 a.m.–5 p.m.\, Roseau County Museum \nCost: $120 (Table retails at $885.00). Prepayment required to register. \nBuild your own end table with guidance from the craftsmen at Northern Toboggan Co. Made from durable hardwood and traditional lacing\, this is a full-day\, hands-on class. \n  \nPURCHASE YOUR TICKET\nHosted by the Roseau County Museum. \nWant to add a chair to match your end table? Click HERE to learn more.\nThis activity is made possible by the voters of Minnesota through a grant from the Minnesota State Arts Board\, thanks to a legislative appropriation from the arts and cultural heritage fund and by a grant from the National Endowment for the Arts. \n \n  \nMaterials: \n\nWhite Ash hardwood provides strength\, flexibility\, and beauty\, resulting in furniture that withstands the elements and constant use.\n TechDeck tubular nylon lacing is extremely strong (rated at 1400# per strand)\, light\, and durable. It resists abrasion and stretch or sag.\n Stainless steel hardware\n\nDimensions: \n\n22″ height overall\n23.5″ length overall\n18″” width overall\n\nSnowshoe laced shelf: \n\n23″x13″\n\n 
URL:https://roseaucohistoricalsociety.org/event/end-table-workshop/
LOCATION:Roseau County Museum\, 121 Center St. E. #101\, Roseau\, MN\, 56751\, United States
CATEGORIES:Programming
ATTACH;FMTTYPE=image/webp:https://roseaucohistoricalsociety.org/wp-content/uploads/2026/04/Table_800x.webp
ORGANIZER;CN="Roseau County Museum":MAILTO:rchsroseau@mncable.net
END:VEVENT
END:VCALENDAR